BEGIN:VCALENDAR
VERSION:2.0
PRODID:-//Texas A&amp;M AgriLife Extension Service - District 12 - ECPv6.15.20//NONSGML v1.0//EN
CALSCALE:GREGORIAN
METHOD:PUBLISH
X-WR-CALNAME:Texas A&amp;M AgriLife Extension Service - District 12
X-ORIGINAL-URL:https://southtexas.tamu.edu
X-WR-CALDESC:Events for Texas A&amp;M AgriLife Extension Service - District 12
REFRESH-INTERVAL;VALUE=DURATION:PT1H
X-Robots-Tag:noindex
X-PUBLISHED-TTL:PT1H
BEGIN:VTIMEZONE
TZID:America/Chicago
BEGIN:DAYLIGHT
TZOFFSETFROM:-0600
TZOFFSETTO:-0500
TZNAME:CDT
DTSTART:20250309T080000
END:DAYLIGHT
BEGIN:STANDARD
TZOFFSETFROM:-0500
TZOFFSETTO:-0600
TZNAME:CST
DTSTART:20251102T070000
END:STANDARD
BEGIN:DAYLIGHT
TZOFFSETFROM:-0600
TZOFFSETTO:-0500
TZNAME:CDT
DTSTART:20260308T080000
END:DAYLIGHT
BEGIN:STANDARD
TZOFFSETFROM:-0500
TZOFFSETTO:-0600
TZNAME:CST
DTSTART:20261101T070000
END:STANDARD
BEGIN:DAYLIGHT
TZOFFSETFROM:-0600
TZOFFSETTO:-0500
TZNAME:CDT
DTSTART:20270314T080000
END:DAYLIGHT
BEGIN:STANDARD
TZOFFSETFROM:-0500
TZOFFSETTO:-0600
TZNAME:CST
DTSTART:20271107T070000
END:STANDARD
END:VTIMEZONE
BEGIN:VEVENT
DTSTART;TZID=America/Chicago:20260423T150000
DTEND;TZID=America/Chicago:20260423T190000
DTSTAMP:20260421T210255
CREATED:20260420T204329Z
LAST-MODIFIED:20260420T204353Z
UID:10125-1776956400-1776970800@southtexas.tamu.edu
SUMMARY:One Health Symposium
DESCRIPTION:Registration and information Here!
URL:https://southtexas.tamu.edu/event/one-health-symposium/
LOCATION:Texas A&M AgriLife Weslaco
ORGANIZER;CN="Charity Cavazos":MAILTO:ccavazos@tamu.edu
END:VEVENT
END:VCALENDAR